Workbook

Sheet ALL GOVERNMENT FUNDS
A1: ALL GOVERNMENT FUNDS
A2: Combining Balance sheet and Statement of Revenue & Expenses
A3: 43435
H5: OTHER NOT REPORTED AS ALL GOVERNMENT FUNDS
B6: General Fund | C6: Capital Projects Fund (3000/4000/4100) | D6: Human Services Fund | E6: 2590 Workforce Development | F6: Other Governmental Funds | G6: TOTAL GOVT FUNDS | H6: 7000 PENSION | I6: 7200 Various Agency Trusts | J6: 7300 Sheriff | K6: 7400 Prison -Inmate Escrow | L6: 7410 Prison Commissary | M6: 2360 Economic Development | N6: 8000 Fixed Assets | O6: Subtotal of These Others | P6: TOTAL COUNTY FUNDS | Q6: 0000 Pooled Cash | R6: TIES TO TRIAL BALANCE
A7: Assets
A8: Cash & cash equivalents | B8: ='General Fund'!M8 -> 7596565.4 | C8: ='Capital Projects Fund'!H8 -> 251080.67 | D8: ='Human Services'!J8 -> -837675.43 | E8: -1402616.4 | F8: ='Other Government'!AI8 -> 3512949.1 | G8: =SUM(B8:F8) -> 9120303.3 | H8: 50270218 | I8: 46922.04 | J8: 85997.82 | K8: =3283.88-970.92 -> 2312.96 | L8: =103229.76+970.92 -> 104200.68 | M8: 13366.21 | O8: =SUM(H8:N8) -> 50523018 | P8: =G8+O8 -> 59643321 | R8: =P8+Q8 -> 59643321
A9: Advances Receivable | D9: ='Human Services'!J9 -> 0 | F9: 0 | G9: =SUM(B9:F9) -> 0 | O9: =SUM(H9:N9) -> 0 | P9: =G9+O9 -> 0 | R9: =P9+Q9 -> 0
A10: Taxes Receivable | B10: ='General Fund'!M10 -> 1533216.4 | G10: =SUM(B10:F10) -> 1533216.4 | O10: =SUM(H10:N10) -> 0 | P10: =G10+O10 -> 1533216.4 | R10: =P10+Q10 -> 1533216.4
A11: A/R | B11: ='General Fund'!M9 -> 621240.54 | C11: ='Capital Projects Fund'!H9 -> 0 | D11: ='Human Services'!J10 -> 415966.26 | F11: ='Other Government'!AI9 -> 941474.22 | G11: =SUM(B11:F11) -> 1978681 | M11: 3750 | O11: =SUM(H11:N11) -> 3750 | P11: =G11+O11 -> 1982431 | R11: =P11+Q11 -> 1982431
A12: Due from Component Unit | B12: ='General Fund'!M11 -> 17619 | G12: =SUM(B12:F12) -> 17619
A13: Due from Other Funds | B13: ='General Fund'!M12 -> 612882.85 | C13: ='Capital Projects Fund'!H10 -> -0.22 | D13: ='Human Services'!J11 -> 83900.52 | F13: ='Other Government'!AI10 -> 58642.64 | G13: =SUM(B13:F13) -> 755425.79 | O13: =SUM(H13:N13) -> 0 | P13: =G13+O13 -> 755425.79 | R13: =P13+Q13 -> 755425.79
A14: Due from Other Governments | B14: ='General Fund'!M13 -> 67643.23 | C14: ='Capital Projects Fund'!H11 -> 0 | D14: ='Human Services'!J12 -> 4224524.5 | E14: 2180845 | F14: ='Other Government'!AI11 -> 301246.51 | G14: =SUM(B14:F14) -> 6774259.2 | O14: =SUM(H14:N14) -> 0 | P14: =G14+O14 -> 6774259.2 | R14: =P14+Q14 -> 6774259.2
A15: Other Assets | B15: ='General Fund'!M14 -> 0 | C15: ='Capital Projects Fund'!H12 -> 0 | D15: ='Human Services'!J13 -> 0 | F15: ='Other Government'!AI12 -> 58641.72 | G15: =SUM(B15:F15) -> 58641.72 | M15: =97010.79+18370-1818.95 -> 113561.84 | N15: =24840826.31-29919.01+96230.79-4210.08+200.48 -> 24903128 | O15: =SUM(H15:N15) -> 25016690 | P15: =G15+O15 -> 25075332 | R15: =P15+Q15 -> 25075332
A16: Lease Receivable | C16: ='Capital Projects Fund'!H13 -> 0 | G16: =SUM(B16:F16) -> 0 | O16: =SUM(H16:N16) -> 0 | P16: =G16+O16 -> 0 | R16: =P16+Q16 -> 0
A17: Current | G17: =SUM(B17:F17) -> 0 | O17: =SUM(H17:N17) -> 0 | P17: =G17+O17 -> 0 | R17: =P17+Q17 -> 0
A18: Non-Current | G18: =SUM(B18:F18) -> 0 | O18: =SUM(H18:N18) -> 0 | P18: =G18+O18 -> 0 | R18: =P18+Q18 -> 0
A19: Total Assets | B19: ='General Fund'!M15 -> 10449167 | C19: ='Capital Projects Fund'!H14 -> 251080.45 | D19: ='Human Services'!J14 -> 3886715.8 | E19: =SUM(E8:E18) -> 778228.59 | F19: ='Other Government'!AI13 -> 4872954.2 | G19: =SUM(B19:F19) -> 20238146 | H19: =SUM(H8:H18) -> 50270218 | I19: =SUM(I8:I18) -> 46922.04 | J19: =SUM(J8:J18) -> 85997.82 | K19: =SUM(K8:K18) -> 2312.96 | L19: =SUM(L8:L18) -> 104200.68 | M19: =SUM(M8:M18) -> 130678.05 | N19: =SUM(N8:N18) -> 24903128 | O19: =SUM(O8:O18) -> 75543458 | ... Q19: =SUM(Q8:Q18) -> 0 | R19: =P19+Q19 -> 95763986 | S19: ties to Major Fund Determination
A21: Liabilities
A22: A/P | B22: ='General Fund'!M18 -> 740275.48 | C22: ='Capital Projects Fund'!H17 -> 0 | D22: ='Human Services'!J17 -> 1004918.9 | E22: 662280.95 | F22: ='Other Government'!AI16 -> 280805.36 | G22: =SUM(B22:F22) -> 2688280.6 | J22: 85997.82 | K22: 3282.48 | L22: 9275.62 | M22: 1342.84 | O22: =SUM(H22:N22) -> 99898.76 | P22: =G22+O22 -> 2788179.4 | R22: =P22+Q22 -> 2788179.4
A23: Accrued Payroll | B23: ='General Fund'!M19 -> 338235.15 | C23: ='Capital Projects Fund'!H18 -> 0 | D23: ='Human Services'!J18 -> 287416.61 | F23: ='Other Government'!AI17 -> 47208.3 | G23: =SUM(B23:F23) -> 672860.06 | M23: 4918.81 | O23: =SUM(H23:N23) -> 4918.81 | P23: =G23+O23 -> 677778.87 | R23: =P23+Q23 -> 677778.87
A24: Due to Other Funds | B24: ='General Fund'!M20 -> 106403.43 | D24: ='Human Services'!J19 -> 160355 | F24: ='Other Government'!AI18 -> 0 | G24: =SUM(B24:F24) -> 266758.43 | I24: 46922.04 | N24: =-29919.01+92020.71 -> 62101.7 | O24: =SUM(H24:N24) -> 109023.74 | P24: =G24+O24 -> 375782.17 | R24: =P24+Q24 -> 375782.17
A25: Due to Other Governments | B25: ='General Fund'!M21 -> 62624.48 | C25: ='Capital Projects Fund'!H19 -> 0 | D25: ='Human Services'!J20 -> 0 | F25: ='Other Government'!AI19 -> 0 | G25: =SUM(B25:F25) -> 62624.48 | O25: =SUM(H25:N25) -> 0 | P25: =G25+O25 -> 62624.48 | R25: =P25+Q25 -> 62624.48
A26: Deferred Revenue | B26: ='General Fund'!M22 -> 1665261.1 | C26: ='Capital Projects Fund'!H20 -> 0 | D26: ='Human Services'!J21 -> 2083631.6 | E26: 115946.3 | F26: ='Other Government'!AI20 -> 1162795.8 | G26: =SUM(B26:F26) -> 5027634.8 | O26: =SUM(H26:N26) -> 0 | P26: =G26+O26 -> 5027634.8 | R26: =P26+Q26 -> 5027634.8
A27: Total Liabilities | B27: ='General Fund'!M23 -> 2912799.7 | C27: ='Capital Projects Fund'!H21 -> 0 | D27: ='Human Services'!J22 -> 3536322.1 | E27: =SUM(E22:E26) -> 778227.25 | F27: ='Other Government'!AI21 -> 1490809.4 | G27: =SUM(G22:G26) -> 8718158.4 | H27: =SUM(H22:H26) -> 0 | I27: =SUM(I22:I26) -> 46922.04 | J27: =SUM(J22:J26) -> 85997.82 | K27: =SUM(K22:K26) -> 3282.48 | L27: =SUM(L22:L26) -> 9275.62 | M27: =SUM(M22:M26) -> 6261.65 | N27: =SUM(N22:N26) -> 62101.7 | ... R27: =SUM(R22:R26) -> 8931999.8 | S27: ties to Major Fund Determination
A29: Deferred Inflows of Resources:
A30: Unavailable revenue - taxes/fees | B30: ='General Fund'!M26 -> 0 | C30: ='Capital Projects Fund'!H24 -> 0 | G30: =SUM(B30:F30) -> 0
A31: Unavailable revenue - note | B31: ='General Fund'!M27 -> 0 | C31: ='Capital Projects Fund'!H25 -> 0 | G31: =SUM(B31:F31) -> 0
A32: Total Deferred Inflows of Resources | B32: =SUM(B30:B31) -> 0 | C32: ='Capital Projects Fund'!H26 -> 0 | E32: =SUM(E30:E31) -> 0 | G32: =SUM(B32:F32) -> 0
A34: Fund Balance
A35: Reserved: Program | B35: ='General Fund'!M32 -> 0 | C35: ='Capital Projects Fund'!H29 -> 0 | F35: ='Other Government'!AI25 -> 0 | G35: =SUM(B35:F35) -> 0 | N35: =71591624.11+200.48 -> 71591825 | O35: =SUM(H35:N35) -> 71591825 | P35: =G35+O35 -> 71591825 | R35: =P35+Q35 -> 71591825
A36: Operating Reserve | B36: ='General Fund'!M33 -> 1755505.6 | G36: =SUM(B36:F36) -> 1755505.6 | O36: =SUM(H36:N36) -> 0 | P36: =G36+O36 -> 1755505.6 | R36: =P36+Q36 -> 1755505.6
A37: Human Services | D37: ='Human Services'!J25 -> 54822.6 | F37: ='Other Government'!AI26 -> 40127.23 | G37: =SUM(B37:F37) -> 94949.83 | O37: =SUM(H37:N37) -> 0 | P37: =G37+O37 -> 94949.83 | R37: =P37+Q37 -> 94949.83
A38: Roads and bridges | F38: ='Other Government'!AI27 -> 1199595.3 | G38: =SUM(B38:F38) -> 1199595.3 | O38: =SUM(H38:N38) -> 0 | P38: =G38+O38 -> 1199595.3 | R38: =P38+Q38 -> 1199595.3
A39: Affordable housing | F39: ='Other Government'!AI28 -> 21790.52 | G39: =SUM(B39:F39) -> 21790.52 | O39: =SUM(H39:N39) -> 0 | P39: =G39+O39 -> 21790.52 | R39: =P39+Q39 -> 21790.52
A40: Act 13 | F40: ='Other Government'!AI29 -> 292279.27 | G40: =SUM(B40:F40) -> 292279.27 | O40: =SUM(H40:N40) -> 0 | P40: =G40+O40 -> 292279.27 | R40: =P40+Q40 -> 292279.27
A41: Constable server fees | F41: ='Other Government'!AI30 -> 289819.26 | G41: =SUM(B41:F41) -> 289819.26 | O41: =SUM(H41:N41) -> 0 | P41: =G41+O41 -> 289819.26 | R41: =P41+Q41 -> 289819.26
A42: Offender identification | F42: ='Other Government'!AI31 -> 445107.69 | G42: =SUM(B42:F42) -> 445107.69 | O42: =SUM(H42:N42) -> 0 | P42: =G42+O42 -> 445107.69 | R42: =P42+Q42 -> 445107.69
A43: Records improvement/automation | F43: ='Other Government'!AI32 -> 56311.44 | G43: =SUM(B43:F43) -> 56311.44 | O43: =SUM(H43:N43) -> 0 | P43: =G43+O43 -> 56311.44 | R43: =P43+Q43 -> 56311.44
A44: Sugar Valley Lodge | F44: ='Other Government'!AI33 -> 124697.59 | G44: =SUM(B44:F44) -> 124697.59 | O44: =SUM(H44:N44) -> 0 | P44: =G44+O44 -> 124697.59 | R44: =P44+Q44 -> 124697.59
...

Sheet Front Stmts
A1: ='ALL GOVERNMENT FUNDS'!A1 -> ALL GOVERNMENT FUNDS
A2: ='ALL GOVERNMENT FUNDS'!A2 -> Combining Balance sheet and Statement of Revenue & Expenses
A3: 2018
A4: yellow=new line items since back statements for front only
B6: ='ALL GOVERNMENT FUNDS'!B6 -> General Fund | C6: ='ALL GOVERNMENT FUNDS'!C6 -> Capital Projects Fund (3000/4000/4100) | D6: ='ALL GOVERNMENT FUNDS'!D6 -> Human Services Fund | E6: ='ALL GOVERNMENT FUNDS'!E6 -> 2590 Workforce Development | F6: ='ALL GOVERNMENT FUNDS'!F6 -> Other Governmental Funds | G6: ='ALL GOVERNMENT FUNDS'!G6 -> TOTAL GOVT FUNDS | H6: #1 Lease Receivable | I6: #2 Compensated Absences | J6: #3 Clerk of Courts | K6: #4 Debt | L6: #5 Taxes Receivable | M6: #6 In-Kind EHS | N6: #7 Capital Assets | O6: #8 Capital Lease | P6: #9 Net Pension Asset | Q6: Other Eliminations | R6: Adjusted Amounts
A7: ='ALL GOVERNMENT FUNDS'!A7 -> Assets | B7: ='ALL GOVERNMENT FUNDS'!B7 -> 0 | C7: ='ALL GOVERNMENT FUNDS'!C7 -> 0 | D7: ='ALL GOVERNMENT FUNDS'!D7 -> 0 | E7: ='ALL GOVERNMENT FUNDS'!E7 -> 0 | F7: ='ALL GOVERNMENT FUNDS'!F7 -> 0 | G7: ='ALL GOVERNMENT FUNDS'!G7 -> 0
A8: ='ALL GOVERNMENT FUNDS'!A8 -> Cash & cash equivalents | B8: ='ALL GOVERNMENT FUNDS'!B8 -> 7596565.4 | C8: ='ALL GOVERNMENT FUNDS'!C8 -> 251080.67 | D8: ='ALL GOVERNMENT FUNDS'!D8 -> -837675.43 | E8: ='ALL GOVERNMENT FUNDS'!E8 -> -1402616.4 | F8: ='ALL GOVERNMENT FUNDS'!F8 -> 3512949.1 | G8: ='ALL GOVERNMENT FUNDS'!G8 -> 9120303.3 | R8: =SUM(G8:Q8) -> 9120303.3
A9: ='ALL GOVERNMENT FUNDS'!A9 -> Advances Receivable | B9: ='ALL GOVERNMENT FUNDS'!B9 -> 0 | C9: ='ALL GOVERNMENT FUNDS'!C9 -> 0 | D9: ='ALL GOVERNMENT FUNDS'!D9 -> 0 | E9: ='ALL GOVERNMENT FUNDS'!E9 -> 0 | F9: ='ALL GOVERNMENT FUNDS'!F9 -> 0 | G9: ='ALL GOVERNMENT FUNDS'!G9 -> 0 | R9: =SUM(G9:Q9) -> 0
A10: ='ALL GOVERNMENT FUNDS'!A10 -> Taxes Receivable | B10: ='ALL GOVERNMENT FUNDS'!B10 -> 1533216.4 | C10: ='ALL GOVERNMENT FUNDS'!C10 -> 0 | D10: ='ALL GOVERNMENT FUNDS'!D10 -> 0 | E10: ='ALL GOVERNMENT FUNDS'!E10 -> 0 | F10: ='ALL GOVERNMENT FUNDS'!F10 -> 0 | G10: ='ALL GOVERNMENT FUNDS'!G10 -> 1533216.4 | R10: =SUM(G10:Q10) -> 1533216.4
A11: ='ALL GOVERNMENT FUNDS'!A11 -> A/R | B11: ='ALL GOVERNMENT FUNDS'!B11 -> 621240.54 | C11: ='ALL GOVERNMENT FUNDS'!C11 -> 0 | D11: ='ALL GOVERNMENT FUNDS'!D11 -> 415966.26 | E11: ='ALL GOVERNMENT FUNDS'!E11 -> 0 | F11: ='ALL GOVERNMENT FUNDS'!F11 -> 941474.22 | G11: ='ALL GOVERNMENT FUNDS'!G11 -> 1978681 | R11: =SUM(G11:Q11) -> 1978681
A12: ='ALL GOVERNMENT FUNDS'!A12 -> Due from Component Unit | B12: ='ALL GOVERNMENT FUNDS'!B12 -> 17619 | C12: ='ALL GOVERNMENT FUNDS'!C12 -> 0 | D12: ='ALL GOVERNMENT FUNDS'!D12 -> 0 | E12: ='ALL GOVERNMENT FUNDS'!E12 -> 0 | F12: ='ALL GOVERNMENT FUNDS'!F12 -> 0 | G12: ='ALL GOVERNMENT FUNDS'!G12 -> 17619 | R12: =SUM(G12:Q12) -> 17619
A13: ='ALL GOVERNMENT FUNDS'!A13 -> Due from Other Funds | B13: ='ALL GOVERNMENT FUNDS'!B13 -> 612882.85 | C13: ='ALL GOVERNMENT FUNDS'!C13 -> -0.22 | D13: ='ALL GOVERNMENT FUNDS'!D13 -> 83900.52 | E13: ='ALL GOVERNMENT FUNDS'!E13 -> 0 | F13: ='ALL GOVERNMENT FUNDS'!F13 -> 58642.64 | G13: ='ALL GOVERNMENT FUNDS'!G13 -> 755425.79 | Q13: =-254148.46-501277.33 -> -755425.79 | R13: =SUM(G13:Q13) -> 0
A14: ='ALL GOVERNMENT FUNDS'!A14 -> Due from Other Governments | B14: ='ALL GOVERNMENT FUNDS'!B14 -> 67643.23 | C14: ='ALL GOVERNMENT FUNDS'!C14 -> 0 | D14: ='ALL GOVERNMENT FUNDS'!D14 -> 4224524.5 | E14: ='ALL GOVERNMENT FUNDS'!E14 -> 2180845 | F14: ='ALL GOVERNMENT FUNDS'!F14 -> 301246.51 | G14: ='ALL GOVERNMENT FUNDS'!G14 -> 6774259.2 | Q14: 501277.33 | R14: =SUM(G14:Q14) -> 7275536.5
A15: Net Pension Asset | B15: 0 | C15: 0 | D15: 0 | E15: 0 | F15: 0 | G15: =SUM(B15:F15) -> 0 | P15: 1465477 | R15: =SUM(G15:Q15) -> 1465477
A16: Beg. Year Non-Dep. Capital Assets | B16: 0 | C16: 0 | D16: 0 | E16: 0 | F16: 0 | G16: =SUM(B16:F16) -> 0 | N16: 2119678 | R16: =SUM(G16:Q16) -> 2119678
A17: Depreciable Capital Assets | B17: 0 | C17: 0 | D17: 0 | E17: 0 | F17: 0 | G17: =SUM(B17:F17) -> 0 | N17: =61502253+1100990-395530 -> 62207713 | R17: =SUM(G17:Q17) -> 62207713
A18: A/D | B18: 0 | C18: 0 | D18: 0 | E18: 0 | F18: 0 | G18: =SUM(B18:F18) -> 0 | N18: =-38041860+291017-1798021 -> -39548864 | R18: =SUM(G18:Q18) -> -39548864 | S18: =SUM(R17:R18) -> 22658849
A19: Deferred Outflows Pension | B19: 0 | C19: 0 | D19: 0 | E19: 0 | F19: 0 | G19: =SUM(B19:F19) -> 0 | P19: 5900659 | R19: =SUM(G19:Q19) -> 5900659
A20: ='ALL GOVERNMENT FUNDS'!A15 -> Other Assets | B20: ='ALL GOVERNMENT FUNDS'!B15 -> 0 | C20: ='ALL GOVERNMENT FUNDS'!C15 -> 0 | D20: ='ALL GOVERNMENT FUNDS'!D15 -> 0 | E20: ='ALL GOVERNMENT FUNDS'!E15 -> 0 | F20: ='ALL GOVERNMENT FUNDS'!F15 -> 58641.72 | G20: ='ALL GOVERNMENT FUNDS'!G15 -> 58641.72 | R20: =SUM(G20:Q20) -> 58641.72
A21: ='ALL GOVERNMENT FUNDS'!A16 -> Lease Receivable | B21: ='ALL GOVERNMENT FUNDS'!B16 -> 0 | C21: ='ALL GOVERNMENT FUNDS'!C16 -> 0 | D21: ='ALL GOVERNMENT FUNDS'!D16 -> 0 | E21: ='ALL GOVERNMENT FUNDS'!E16 -> 0 | F21: ='ALL GOVERNMENT FUNDS'!F16 -> 0 | G21: ='ALL GOVERNMENT FUNDS'!G16 -> 0 | R21: =SUM(G21:Q21) -> 0
A22: ='ALL GOVERNMENT FUNDS'!A17 -> Current | B22: ='ALL GOVERNMENT FUNDS'!B17 -> 0 | C22: ='ALL GOVERNMENT FUNDS'!C17 -> 0 | D22: ='ALL GOVERNMENT FUNDS'!D17 -> 0 | E22: ='ALL GOVERNMENT FUNDS'!E17 -> 0 | F22: ='ALL GOVERNMENT FUNDS'!F17 -> 0 | G22: ='ALL GOVERNMENT FUNDS'!G17 -> 0 | R22: =SUM(G22:Q22) -> 0
A23: ='ALL GOVERNMENT FUNDS'!A18 -> Non-Current | B23: ='ALL GOVERNMENT FUNDS'!B18 -> 0 | C23: ='ALL GOVERNMENT FUNDS'!C18 -> 0 | D23: ='ALL GOVERNMENT FUNDS'!D18 -> 0 | E23: ='ALL GOVERNMENT FUNDS'!E18 -> 0 | F23: ='ALL GOVERNMENT FUNDS'!F18 -> 0 | G23: ='ALL GOVERNMENT FUNDS'!G18 -> 0 | R23: =SUM(G23:Q23) -> 0
A24: ='ALL GOVERNMENT FUNDS'!A19 -> Total Assets | B24: ='ALL GOVERNMENT FUNDS'!B19 -> 10449167 | C24: ='ALL GOVERNMENT FUNDS'!C19 -> 251080.45 | D24: ='ALL GOVERNMENT FUNDS'!D19 -> 3886715.8 | E24: ='ALL GOVERNMENT FUNDS'!E19 -> 778228.59 | F24: ='ALL GOVERNMENT FUNDS'!F19 -> 4872954.2 | G24: ='ALL GOVERNMENT FUNDS'!G19 -> 20238146 | H24: =SUM(H8:H23) -> 0 | I24: =SUM(I8:I23) -> 0 | J24: =SUM(J8:J23) -> 0 | K24: =SUM(K8:K23) -> 0 | L24: =SUM(L8:L23) -> 0 | M24: =SUM(M8:M23) -> 0 | N24: =SUM(N8:N23) -> 24778527 | O24: =SUM(O8:O23) -> 0 | ... Q24: =SUM(Q8:Q23) -> -254148.46 | R24: =SUM(G24:Q24) -> 52128661 | S24: =R24-P19 -> 46228002
A26: ='ALL GOVERNMENT FUNDS'!A21 -> Liabilities
A27: ='ALL GOVERNMENT FUNDS'!A22 -> A/P | B27: ='ALL GOVERNMENT FUNDS'!B22 -> 740275.48 | C27: ='ALL GOVERNMENT FUNDS'!C22 -> 0 | D27: ='ALL GOVERNMENT FUNDS'!D22 -> 1004918.9 | E27: ='ALL GOVERNMENT FUNDS'!E22 -> 662280.95 | F27: ='ALL GOVERNMENT FUNDS'!F22 -> 280805.36 | G27: ='ALL GOVERNMENT FUNDS'!G22 -> 2688280.6 | R27: =SUM(G27:Q27) -> 2688280.6
A28: ='ALL GOVERNMENT FUNDS'!A23 -> Accrued Payroll | B28: ='ALL GOVERNMENT FUNDS'!B23 -> 338235.15 | C28: ='ALL GOVERNMENT FUNDS'!C23 -> 0 | D28: ='ALL GOVERNMENT FUNDS'!D23 -> 287416.61 | E28: ='ALL GOVERNMENT FUNDS'!E23 -> 0 | F28: ='ALL GOVERNMENT FUNDS'!F23 -> 47208.3 | G28: ='ALL GOVERNMENT FUNDS'!G23 -> 672860.06 | R28: =SUM(G28:Q28) -> 672860.06
A29: ='ALL GOVERNMENT FUNDS'!A24 -> Due to Other Funds | B29: ='ALL GOVERNMENT FUNDS'!B24 -> 106403.43 | C29: ='ALL GOVERNMENT FUNDS'!C24 -> 0 | D29: ='ALL GOVERNMENT FUNDS'!D24 -> 160355 | E29: ='ALL GOVERNMENT FUNDS'!E24 -> 0 | F29: ='ALL GOVERNMENT FUNDS'!F24 -> 0 | G29: ='ALL GOVERNMENT FUNDS'!G24 -> 266758.43 | Q29: =-254145.11-12613.32 -> -266758.43 | R29: =SUM(G29:Q29) -> 0
A30: ='ALL GOVERNMENT FUNDS'!A25 -> Due to Other Governments | B30: ='ALL GOVERNMENT FUNDS'!B25 -> 62624.48 | C30: ='ALL GOVERNMENT FUNDS'!C25 -> 0 | D30: ='ALL GOVERNMENT FUNDS'!D25 -> 0 | E30: ='ALL GOVERNMENT FUNDS'!E25 -> 0 | F30: ='ALL GOVERNMENT FUNDS'!F25 -> 0 | G30: ='ALL GOVERNMENT FUNDS'!G25 -> 62624.48 | Q30: 12613.32 | R30: =SUM(G30:Q30) -> 75237.8
A31: Compensated Absences | B31: 0 | C31: 0 | D31: 0 | E31: 0 | F31: 0 | G31: =SUM(B31:F31) -> 0 | I31: 607066 | R31: =SUM(G31:Q31) -> 607066
A32: Capital Lease - Current | B32: 0 | C32: 0 | D32: 0 | E32: 0 | F32: 0 | G32: =SUM(B32:F32) -> 0 | O32: 56894 | R32: =SUM(G32:Q32) -> 56894
A33: Capital Lease - Long Term | B33: 0 | C33: 0 | D33: 0 | E33: 0 | F33: 0 | G33: =SUM(B33:F33) -> 0 | O33: 110781 | R33: =SUM(G33:Q33) -> 110781
A34: Bonds Payable - Current | B34: 0 | C34: 0 | D34: 0 | E34: 0 | F34: 0 | G34: =SUM(B34:F34) -> 0 | K34: 448133 | R34: =SUM(G34:Q34) -> 448133
A35: Bonds Payable - Long Term | B35: 0 | C35: 0 | D35: 0 | E35: 0 | F35: 0 | G35: =SUM(B35:F35) -> 0 | R35: =SUM(G35:Q35) -> 0
A36: ='ALL GOVERNMENT FUNDS'!A26 -> Deferred Revenue | B36: ='ALL GOVERNMENT FUNDS'!B26 -> 1665261.1 | C36: ='ALL GOVERNMENT FUNDS'!C26 -> 0 | D36: ='ALL GOVERNMENT FUNDS'!D26 -> 2083631.6 | E36: ='ALL GOVERNMENT FUNDS'!E26 -> 115946.3 | F36: ='ALL GOVERNMENT FUNDS'!F26 -> 1162795.8 | G36: ='ALL GOVERNMENT FUNDS'!G26 -> 5027634.8 | J36: -279463 | L36: -1287782 | R36: =SUM(G36:Q36) -> 3460389.8 | S36: =SUM(R27:R36) -> 8119642.3
A37: ='ALL GOVERNMENT FUNDS'!A27 -> Total Liabilities | B37: ='ALL GOVERNMENT FUNDS'!B27 -> 2912799.7 | C37: ='ALL GOVERNMENT FUNDS'!C27 -> 0 | D37: ='ALL GOVERNMENT FUNDS'!D27 -> 3536322.1 | E37: ='ALL GOVERNMENT FUNDS'!E27 -> 778227.25 | F37: ='ALL GOVERNMENT FUNDS'!F27 -> 1490809.4 | G37: ='ALL GOVERNMENT FUNDS'!G27 -> 8718158.4 | H37: =SUM(H27:H36) -> 0 | I37: =SUM(I27:I36) -> 607066 | J37: =SUM(J27:J36) -> -279463 | K37: =SUM(K27:K36) -> 448133 | L37: =SUM(L27:L36) -> -1287782 | M37: =SUM(M27:M36) -> 0 | N37: =SUM(N27:N36) -> 0 | O37: =SUM(O27:O36) -> 167675 | ... Q37: =SUM(Q27:Q36) -> -254145.11 | R37: =SUM(G37:Q37) -> 8119642.3
A39: ='ALL GOVERNMENT FUNDS'!A29 -> Deferred Inflows of Resources:
A40: ='ALL GOVERNMENT FUNDS'!A30 -> Unavailable revenue - taxes/fees | B40: ='ALL GOVERNMENT FUNDS'!B30 -> 0 | C40: ='ALL GOVERNMENT FUNDS'!C30 -> 0 | D40: ='ALL GOVERNMENT FUNDS'!D30 -> 0 | E40: ='ALL GOVERNMENT FUNDS'!E30 -> 0 | F40: ='ALL GOVERNMENT FUNDS'!F30 -> 0 | G40: ='ALL GOVERNMENT FUNDS'!G30 -> 0 | R40: =SUM(G40:Q40) -> 0
A41: ='ALL GOVERNMENT FUNDS'!A31 -> Unavailable revenue - note | B41: ='ALL GOVERNMENT FUNDS'!B31 -> 0 | C41: ='ALL GOVERNMENT FUNDS'!C31 -> 0 | D41: ='ALL GOVERNMENT FUNDS'!D31 -> 0 | E41: ='ALL GOVERNMENT FUNDS'!E31 -> 0 | F41: ='ALL GOVERNMENT FUNDS'!F31 -> 0 | G41: ='ALL GOVERNMENT FUNDS'!G31 -> 0 | R41: =SUM(G41:Q41) -> 0
A42: Deferred Inflow Pension | B42: 0 | C42: 0 | D42: 0 | E42: 0 | F42: 0 | G42: =SUM(B42:F42) -> 0 | P42: 2980053 | R42: =SUM(G42:Q42) -> 2980053 | S42: =SUM(R40:R42) -> 2980053
A43: ='ALL GOVERNMENT FUNDS'!A32 -> Total Deferred Inflows of Resources | B43: ='ALL GOVERNMENT FUNDS'!B32 -> 0 | C43: ='ALL GOVERNMENT FUNDS'!C32 -> 0 | D43: ='ALL GOVERNMENT FUNDS'!D32 -> 0 | E43: ='ALL GOVERNMENT FUNDS'!E32 -> 0 | F43: ='ALL GOVERNMENT FUNDS'!F32 -> 0 | G43: ='ALL GOVERNMENT FUNDS'!G32 -> 0 | H43: =SUM(H40:H42) -> 0 | I43: =SUM(I40:I42) -> 0 | J43: =SUM(J40:J42) -> 0 | K43: =SUM(K40:K42) -> 0 | L43: =SUM(L40:L42) -> 0 | M43: =SUM(M40:M42) -> 0 | N43: =SUM(N40:N42) -> 0 | O43: =SUM(O40:O42) -> 0 | ... Q43: =SUM(Q40:Q42) -> 0 | R43: =SUM(G43:Q43) -> 2980053
...

Sheet Other Government
A1: Other Governmental Funds
A2: Combining Balance sheet and Statement of Revenue & Expenses
A3: 43435
B5: Liquid Fuels 2000 | C5: Affordable Housing 2020 | D5: Airport 2100/2150/ 2050 | E5: Hazmat 2200 | F5: Planning/ Marcellus 2790 | G5: Register and Recorder 2770 | I5: Court Constable 2400 | J5: Adj for Court Constable | K5: Adj Court Constable | L5: Offender ID 2450 | M5: Juevenile Court 2460 | N5: County Records 2750 | O5: Prothonotary 2760 | P5: Adjustments to Prothonotary | Q5: Adj Prothonotary | R5: CDBG 1720/2579 | S5: CSBG 1710 | T5: ADJ | U5: Adjusted CSBG | V5: OEO-SWP 1730 | W5: ADJ | X5: Adjusted OEO-SWP | Y5: OEO Weather 1900/1910/1920 | Z5: OEO-Other 1740-1790 | AA5: Transportation 1810/1820/1830/1840/7580 & 7581/7582 | AB5: Special Purpose 7100/7150/ 7540 | AD5: Adoption 7250 | AE5: Domestic Relations 7700 | AF5: ADJ | AG5: Adjusted Domestic Relations | AH5: 911 2252/2250 | AI5: TOTAL OTHER GVT
A7: Assets
A8: Cash & cash equivalents | B8: 1219572.2 | C8: 19293.64 | D8: ='Airport Funds'!I8 -> -379122.55 | E8: 66855.8 | F8: 300479.27 | G8: 19769.52 | I8: 298098.97 | K8: =SUM(I8:J8) -> 298098.97 | L8: 439870.21 | M8: 7788.8 | N8: 28363.92 | O8: 27947.52 | Q8: =SUM(O8:P8) -> 27947.52 | R8: =CDBG!H8 -> -153586.18 | S8: -41398.2 | U8: =S8+T8 -> -41398.2 | V8: -23845.47 | X8: =V8+W8 -> -23845.47 | Y8: ='OEO-Weatherization'!H8 -> 25534.7 | Z8: ='OEO-Other'!Y8 -> 805106.94 | AA8: ='Transportation Fund'!Y8 -> -203763.24 | AB8: ='Special Purpose '!E8 -> 161824.82 | AD8: 10785.43 | AE8: 693112.67 | AG8: =AE8+AF8 -> 693112.67 | AH8: ='911'!H8 -> 190260.32 | AI8: =B8+C8+D8+E8+F8+G8+K8+L8+M8+N8+Q8+R8+U8+X8+Y8+Z8+AA8+AB8+AD8+AG8+AH8 -> 3512949.1
A9: A/R | D9: ='Airport Funds'!I9 -> 383688.46 | K9: =SUM(I9:J9) -> 0 | Q9: =SUM(O9:P9) -> 0 | R9: =CDBG!H9 -> 153017.03 | S9: 95525 | U9: =S9+T9 -> 95525 | X9: =V9+W9 -> 0 | Y9: ='OEO-Weatherization'!H9 -> 1501 | Z9: ='OEO-Other'!Y9 -> 10675.58 | AA9: ='Transportation Fund'!Y9 -> 0 | AB9: ='Special Purpose '!E9 -> 0 | AF9: 60570 | AG9: =AE9+AF9 -> 60570 | AH9: ='911'!H9 -> 236497.15 | AI9: =B9+C9+D9+E9+F9+G9+K9+L9+M9+N9+Q9+R9+U9+X9+Y9+Z9+AA9+AB9+AD9+AG9+AH9 -> 941474.22
A10: Due from Other Funds | C10: 2496.88 | D10: ='Airport Funds'!I10 -> 0 | I10: 468.01 | K10: =SUM(I10:J10) -> 468.01 | L10: 5275.48 | M10: 787.98 | Q10: =SUM(O10:P10) -> 0 | R10: =CDBG!H10 -> 569 | U10: =S10+T10 -> 0 | V10: 40440.59 | X10: =V10+W10 -> 40440.59 | Y10: ='OEO-Weatherization'!H10 -> 1956.21 | Z10: ='OEO-Other'!Y10 -> 5160.28 | AA10: ='Transportation Fund'!Y10 -> 1488.21 | AB10: ='Special Purpose '!E10 -> 0 | AG10: =AE10+AF10 -> 0 | AH10: ='911'!H10 -> 0 | AI10: =B10+C10+D10+E10+F10+G10+K10+L10+M10+N10+Q10+R10+U10+X10+Y10+Z10+AA10+AB10+AD10+AG10+AH10 -> 58642.64
A11: Due from Other Governments | D11: ='Airport Funds'!I11 -> 0 | K11: =SUM(I11:J11) -> 0 | Q11: =SUM(O11:P11) -> 0 | R11: =CDBG!H11 -> 0 | U11: =S11+T11 -> 0 | X11: =V11+W11 -> 0 | Y11: ='OEO-Weatherization'!H11 -> 4759 | Z11: ='OEO-Other'!Y11 -> 15656.51 | AA11: ='Transportation Fund'!Y11 -> 280831 | AB11: ='Special Purpose '!E11 -> 0 | AG11: =AE11+AF11 -> 0 | AH11: ='911'!H11 -> 0 | AI11: =B11+C11+D11+E11+F11+G11+K11+L11+M11+N11+Q11+R11+U11+X11+Y11+Z11+AA11+AB11+AD11+AG11+AH11 -> 301246.51
A12: Prepaids | D12: ='Airport Funds'!I12 -> 52043.19 | K12: =SUM(I12:J12) -> 0 | Q12: =SUM(O12:P12) -> 0 | R12: =CDBG!H12 -> 0 | S12: 2483.51 | U12: =S12+T12 -> 2483.51 | V12: 1115.02 | X12: =V12+W12 -> 1115.02 | Y12: ='OEO-Weatherization'!H12 -> 0 | Z12: ='OEO-Other'!Y12 -> 0 | AA12: ='Transportation Fund'!Y12 -> 0 | AB12: ='Special Purpose '!E12 -> 3000 | AG12: =AE12+AF12 -> 0 | AH12: ='911'!H12 -> 0 | AI12: =B12+C12+D12+E12+F12+G12+K12+L12+M12+N12+Q12+R12+U12+X12+Y12+Z12+AA12+AB12+AD12+AG12+AH12 -> 58641.72
A13: Total Assets | B13: =SUM(B8:B12) -> 1219572.2 | C13: =SUM(C8:C12) -> 21790.52 | D13: ='Airport Funds'!I13 -> 56609.1 | E13: =SUM(E8:E12) -> 66855.8 | F13: =SUM(F8:F12) -> 300479.27 | G13: =SUM(G8:G12) -> 19769.52 | I13: =SUM(I8:I12) -> 298566.98 | J13: =SUM(J8:J12) -> 0 | K13: =SUM(K8:K12) -> 298566.98 | L13: =SUM(L8:L12) -> 445145.69 | M13: =SUM(M8:M12) -> 8576.78 | N13: =SUM(N8:N12) -> 28363.92 | O13: =SUM(O8:O12) -> 27947.52 | P13: =SUM(P8:P12) -> 0 | Q13: =SUM(O13:P13) -> 27947.52 | R13: =CDBG!H13 -> -0.15 | S13: =ROUND(SUM(S8:S12),2) -> 56610.31 | T13: =SUM(T8:T12) -> 0 | U13: =S13+T13 -> 56610.31 | V13: =SUM(V8:V12) -> 17710.14 | W13: =SUM(W8:W12) -> 0 | X13: =V13+W13 -> 17710.14 | Y13: ='OEO-Weatherization'!H13 -> 33750.91 | Z13: ='OEO-Other'!Y13 -> 836599.31 | AA13: ='Transportation Fund'!Y13 -> 78555.97 | AB13: ='Special Purpose '!E13 -> 164824.82 | AD13: =SUM(AD8:AD12) -> 10785.43 | AE13: =SUM(AE8:AE12) -> 693112.67 | AF13: =SUM(AF8:AF12) -> 60570 | AG13: =AE13+AF13 -> 753682.67 | AH13: ='911'!H13 -> 426757.47 | AI13: =B13+C13+D13+E13+F13+G13+K13+L13+M13+N13+Q13+R13+U13+X13+Y13+Z13+AA13+AB13+AD13+AG13+AH13 -> 4872954.2
K14: =SUM(I14:J14) -> 0 | Q14: =SUM(O14:P14) -> 0
A15: Liabilities | K15: =SUM(I15:J15) -> 0 | Q15: =SUM(O15:P15) -> 0
A16: A/P | B16: 19976.88 | D16: ='Airport Funds'!I16 -> 47920.63 | F16: 8200 | I16: 8747.72 | K16: =SUM(I16:J16) -> 8747.72 | L16: 38.02 | Q16: =SUM(O16:P16) -> 0 | R16: =CDBG!H16 -> 0 | S16: 13041.71 | U16: =S16+T16 -> 13041.71 | V16: 14442.52 | X16: =V16+W16 -> 14442.52 | Y16: ='OEO-Weatherization'!H16 -> 145.21 | Z16: ='OEO-Other'!Y16 -> 52914.37 | AA16: ='Transportation Fund'!Y16 -> 77279.93 | AB16: ='Special Purpose '!E16 -> 0 | AG16: =AE16+AF16 -> 0 | AH16: ='911'!H16 -> 38098.37 | AI16: =B16+C16+D16+E16+F16+G16+K16+L16+M16+N16+Q16+R16+U16+X16+Y16+Z16+AA16+AB16+AD16+AG16+AH16 -> 280805.36
A17: Accrued Payroll | D17: ='Airport Funds'!I17 -> 0 | K17: =SUM(I17:J17) -> 0 | Q17: =SUM(O17:P17) -> 0 | R17: =CDBG!H17 -> 0 | S17: 4983.54 | U17: =S17+T17 -> 4983.54 | V17: 2245.32 | X17: =V17+W17 -> 2245.32 | Y17: ='OEO-Weatherization'!H17 -> 0 | Z17: ='OEO-Other'!Y17 -> 16939.51 | AA17: ='Transportation Fund'!Y17 -> 1276.16 | AB17: ='Special Purpose '!E17 -> 0 | AG17: =AE17+AF17 -> 0 | AH17: ='911'!H17 -> 21763.77 | AI17: =B17+C17+D17+E17+F17+G17+K17+L17+M17+N17+Q17+R17+U17+X17+Y17+Z17+AA17+AB17+AD17+AG17+AH17 -> 47208.3
A18: Due to other Funds | D18: ='Airport Funds'!I18 -> 0 | K18: =SUM(I18:J18) -> 0 | Q18: =SUM(O18:P18) -> 0 | R18: =CDBG!H18 -> 0 | U18: =S18+T18 -> 0 | X18: =V18+W18 -> 0 | Y18: ='OEO-Weatherization'!H18 -> 0 | Z18: ='OEO-Other'!Y18 -> 0 | AA18: ='Transportation Fund'!Y18 -> 0 | AB18: ='Special Purpose '!E18 -> 0 | AG18: =AE18+AF18 -> 0 | AH18: ='911'!H18 -> 0 | AI18: =B18+C18+D18+E18+F18+G18+K18+L18+M18+N18+Q18+R18+U18+X18+Y18+Z18+AA18+AB18+AD18+AG18+AH18 -> 0
A19: Due to Other Governments | D19: ='Airport Funds'!I18 -> 0 | K19: =SUM(I19:J19) -> 0 | Q19: =SUM(O19:P19) -> 0 | R19: 0 | U19: =S19+T19 -> 0 | X19: =V19+W19 -> 0 | Y19: 0 | Z19: 0 | AA19: 0 | AB19: ='Special Purpose '!E18 -> 0 | AG19: =AE19+AF19 -> 0 | AH19: ='911'!H18 -> 0 | AI19: =B19+C19+D19+E19+F19+G19+K19+L19+M19+N19+Q19+R19+U19+X19+Y19+Z19+AA19+AB19+AD19+AG19+AH19 -> 0
A20: Deferred Revenue | D20: ='Airport Funds'!I19 -> 0 | K20: =SUM(I20:J20) -> 0 | Q20: =SUM(O20:P20) -> 0 | R20: =CDBG!H19 -> 0 | S20: 38585 | U20: =S20+T20 -> 38585 | V20: 7527.39 | W20: -6504 | X20: =V20+W20 -> 1023.39 | Y20: ='OEO-Weatherization'!H19 -> 33606 | Z20: ='OEO-Other'!Y19 -> 749378.57 | AA20: ='Transportation Fund'!Y20 -> 0 | AB20: ='Special Purpose '!E19 -> 0 | AG20: =AE20+AF20 -> 0 | AH20: ='911'!H19 -> 340202.81 | AI20: =B20+C20+D20+E20+F20+G20+K20+L20+M20+N20+Q20+R20+U20+X20+Y20+Z20+AA20+AB20+AD20+AG20+AH20 -> 1162795.8
A21: Total Liabilities | B21: =SUM(B16:B20) -> 19976.88 | C21: =SUM(C16:C20) -> 0 | D21: ='Airport Funds'!I20 -> 47920.63 | E21: =SUM(E16:E20) -> 0 | F21: =SUM(F16:F20) -> 8200 | G21: =SUM(G16:G20) -> 0 | I21: =SUM(I16:I20) -> 8747.72 | J21: =SUM(J16:J20) -> 0 | K21: =SUM(I21:J21) -> 8747.72 | L21: =SUM(L16:L20) -> 38.02 | M21: =SUM(M16:M20) -> 0 | N21: =SUM(N16:N20) -> 0 | O21: =SUM(O16:O20) -> 0 | P21: =SUM(P16:P20) -> 0 | Q21: =SUM(O21:P21) -> 0 | R21: =SUM(R16:R20) -> 0 | S21: =SUM(S16:S20) -> 56610.25 | T21: =SUM(T16:T20) -> 0 | U21: =S21+T21 -> 56610.25 | V21: =SUM(V16:V20) -> 24215.23 | W21: =SUM(W16:W20) -> -6504 | X21: =V21+W21 -> 17711.23 | Y21: ='OEO-Weatherization'!H20 -> 33751.21 | Z21: ='OEO-Other'!Y20 -> 819232.45 | AA21: ='Transportation Fund'!Y21 -> 78556.09 | AB21: ='Special Purpose '!E20 -> 0 | AD21: =SUM(AD16:AD20) -> 0 | AE21: =SUM(AE16:AE20) -> 0 | AF21: =SUM(AF16:AF20) -> 0 | AG21: =AE21+AF21 -> 0 | AH21: ='911'!H20 -> 400064.95 | AI21: =B21+C21+D21+E21+F21+G21+K21+L21+M21+N21+Q21+R21+U21+X21+Y21+Z21+AA21+AB21+AD21+AG21+AH21 -> 1490809.4
K22: =SUM(I22:J22) -> 0 | Q22: =SUM(O22:P22) -> 0
A23: Fund Balance | K23: =SUM(I23:J23) -> 0 | Q23: =SUM(O23:P23) -> 0
A24: Restricted: | K24: =SUM(I24:J24) -> 0 | Q24: =SUM(O24:P24) -> 0 | R24: =CDBG!H23 -> 0
A25: Operating Reserve | D25: ='Airport Funds'!I24 -> 0 | K25: =SUM(I25:J25) -> 0 | Q25: =SUM(O25:P25) -> 0 | X25: =V25+W25 -> 0 | Y25: ='OEO-Weatherization'!H24 -> 0 | Z25: ='OEO-Other'!Y24 -> 0 | AA25: ='Transportation Fund'!Y25 -> 0 | AB25: ='Special Purpose '!E24 -> 0 | AG25: =AE25+AF25 -> 0 | AH25: ='911'!H24 -> 0 | AI25: =B25+C25+D25+E25+F25+G25+K25+L25+M25+N25+Q25+R25+U25+X25+Y25+Z25+AA25+AB25+AD25+AG25+AH25 -> 0
A26: Human services | D26: ='Airport Funds'!I25 -> 0 | K26: =SUM(I26:J26) -> 0 | Q26: =SUM(O26:P26) -> 0 | X26: =V26+W26 -> 0 | Y26: ='OEO-Weatherization'!H25 -> 0 | Z26: ='OEO-Other'!Y25 -> 0 | AA26: ='Transportation Fund'!Y26 -> 0 | AB26: ='Special Purpose '!E25 -> 40127.23 | AG26: =AE26+AF26 -> 0 | AH26: ='911'!H25 -> 0 | AI26: =B26+C26+D26+E26+F26+G26+K26+L26+M26+N26+Q26+R26+U26+X26+Y26+Z26+AA26+AB26+AD26+AG26+AH26 -> 40127.23
A27: Roads and Bridges | B27: 1199595.3 | D27: ='Airport Funds'!I26 -> 0 | K27: =SUM(I27:J27) -> 0 | Q27: =SUM(O27:P27) -> 0 | X27: =V27+W27 -> 0 | Y27: ='OEO-Weatherization'!H26 -> 0 | Z27: ='OEO-Other'!Y26 -> 0 | AA27: ='Transportation Fund'!Y27 -> 0 | AB27: ='Special Purpose '!E26 -> 0 | AG27: =AE27+AF27 -> 0 | AH27: ='911'!H26 -> 0 | AI27: =B27+C27+D27+E27+F27+G27+K27+L27+M27+N27+Q27+R27+U27+X27+Y27+Z27+AA27+AB27+AD27+AG27+AH27 -> 1199595.3
A28: Affordable housing | C28: 21790.52 | D28: ='Airport Funds'!I27 -> 0 | K28: =SUM(I28:J28) -> 0 | Q28: =SUM(O28:P28) -> 0 | X28: =V28+W28 -> 0 | Y28: ='OEO-Weatherization'!H27 -> 0 | Z28: ='OEO-Other'!Y27 -> 0 | AA28: ='Transportation Fund'!Y28 -> 0 | AB28: ='Special Purpose '!E27 -> 0 | AG28: =AE28+AF28 -> 0 | AH28: ='911'!H27 -> 0 | AI28: =B28+C28+D28+E28+F28+G28+K28+L28+M28+N28+Q28+R28+U28+X28+Y28+Z28+AA28+AB28+AD28+AG28+AH28 -> 21790.52
A29: Act 13 | D29: ='Airport Funds'!I28 -> 0 | F29: 292279.27 | K29: =SUM(I29:J29) -> 0 | Q29: =SUM(O29:P29) -> 0 | X29: =V29+W29 -> 0 | Y29: ='OEO-Weatherization'!H28 -> 0 | Z29: ='OEO-Other'!Y28 -> 0 | AA29: ='Transportation Fund'!Y29 -> 0 | AB29: ='Special Purpose '!E28 -> 0 | AG29: =AE29+AF29 -> 0 | AH29: ='911'!H28 -> 0 | AI29: =B29+C29+D29+E29+F29+G29+K29+L29+M29+N29+Q29+R29+U29+X29+Y29+Z29+AA29+AB29+AD29+AG29+AH29 -> 292279.27
A30: Constable server fees | D30: ='Airport Funds'!I29 -> 0 | I30: 289819.26 | K30: =SUM(I30:J30) -> 289819.26 | Q30: =SUM(O30:P30) -> 0 | X30: =V30+W30 -> 0 | Y30: ='OEO-Weatherization'!H29 -> 0 | Z30: ='OEO-Other'!Y29 -> 0 | AA30: ='Transportation Fund'!Y30 -> 0 | AB30: ='Special Purpose '!E29 -> 0 | AG30: =AE30+AF30 -> 0 | AH30: ='911'!H29 -> 0 | AI30: =B30+C30+D30+E30+F30+G30+K30+L30+M30+N30+Q30+R30+U30+X30+Y30+Z30+AA30+AB30+AD30+AG30+AH30 -> 289819.26
A31: Offender identification | D31: ='Airport Funds'!I30 -> 0 | K31: =SUM(I31:J31) -> 0 | L31: 445107.69 | Q31: =SUM(O31:P31) -> 0 | X31: =V31+W31 -> 0 | Y31: ='OEO-Weatherization'!H30 -> 0 | Z31: ='OEO-Other'!Y30 -> 0 | AA31: ='Transportation Fund'!Y31 -> 0 | AB31: ='Special Purpose '!E30 -> 0 | AG31: =AE31+AF31 -> 0 | AH31: ='911'!H30 -> 0 | AI31: =B31+C31+D31+E31+F31+G31+K31+L31+M31+N31+Q31+R31+U31+X31+Y31+Z31+AA31+AB31+AD31+AG31+AH31 -> 445107.69
A32: Records improvement | D32: ='Airport Funds'!I31 -> 0 | K32: =SUM(I32:J32) -> 0 | N32: 28363.92 | O32: 27947.52 | Q32: =SUM(O32:P32) -> 27947.52 | X32: =V32+W32 -> 0 | Y32: ='OEO-Weatherization'!H31 -> 0 | Z32: ='OEO-Other'!Y31 -> 0 | AA32: ='Transportation Fund'!Y32 -> 0 | AB32: ='Special Purpose '!E31 -> 0 | AG32: =AE32+AF32 -> 0 | AH32: ='911'!H31 -> 0 | AI32: =B32+C32+D32+E32+F32+G32+K32+L32+M32+N32+Q32+R32+U32+X32+Y32+Z32+AA32+AB32+AD32+AG32+AH32 -> 56311.44
A33: Sugar Valley Lodge | D33: ='Airport Funds'!I32 -> 0 | K33: =SUM(I33:J33) -> 0 | Q33: =SUM(O33:P33) -> 0 | X33: =V33+W33 -> 0 | Y33: ='OEO-Weatherization'!H32 -> 0 | Z33: ='OEO-Other'!Y32 -> 0 | AA33: ='Transportation Fund'!Y33 -> 0 | AB33: ='Special Purpose '!E32 -> 124697.59 | AG33: =AE33+AF33 -> 0 | AH33: ='911'!H32 -> 0 | AI33: =B33+C33+D33+E33+F33+G33+K33+L33+M33+N33+Q33+R33+U33+X33+Y33+Z33+AA33+AB33+AD33+AG33+AH33 -> 124697.59
A34: Domestic relations | D34: ='Airport Funds'!I33 -> 0 | K34: =SUM(I34:J34) -> 0 | Q34: =SUM(O34:P34) -> 0 | X34: =V34+W34 -> 0 | Y34: ='OEO-Weatherization'!H33 -> 0 | Z34: ='OEO-Other'!Y33 -> 0 | AA34: ='Transportation Fund'!Y34 -> 0 | AB34: ='Special Purpose '!E33 -> 0 | AE34: 693112.67 | AF34: 60570 | AG34: =AE34+AF34 -> 753682.67 | AH34: ='911'!H33 -> 0 | AI34: =B34+C34+D34+E34+F34+G34+K34+L34+M34+N34+Q34+R34+U34+X34+Y34+Z34+AA34+AB34+AD34+AG34+AH34 -> 753682.67
A35: Other purposes | D35: ='Airport Funds'!I34 -> 0 | E35: 66855.8 | G35: 19769.52 | K35: =SUM(I35:J35) -> 0 | L35: -0.02 | M35: 8576.78 | Q35: =SUM(O35:P35) -> 0 | X35: =V35+W35 -> 0 | Y35: ='OEO-Weatherization'!H34 -> 0 | Z35: ='OEO-Other'!Y34 -> 0 | AA35: ='Transportation Fund'!Y35 -> 0 | AB35: ='Special Purpose '!E34 -> 0 | AD35: 10785.43 | AG35: =AE35+AF35 -> 0 | AH35: ='911'!H34 -> 26692.52 | AI35: =B35+C35+D35+E35+F35+G35+K35+L35+M35+N35+Q35+R35+U35+X35+Y35+Z35+AA35+AB35+AD35+AG35+AH35 -> 132680.03
A36: Assigned: | D36: ='Airport Funds'!I35 -> 0 | K36: =SUM(I36:J36) -> 0 | Q36: =SUM(O36:P36) -> 0 | R36: =CDBG!H24 -> 0 | U36: =S36+T36 -> 0 | X36: =V36+W36 -> 0 | Y36: ='OEO-Weatherization'!H35 -> 0 | Z36: ='OEO-Other'!Y35 -> 0 | AA36: ='Transportation Fund'!Y36 -> 0 | AB36: ='Special Purpose '!E35 -> 0 | AG36: =AE36+AF36 -> 0 | AH36: ='911'!H35 -> 0 | AI36: =B36+C36+D36+E36+F36+G36+K36+L36+M36+N36+Q36+R36+U36+X36+Y36+Z36+AA36+AB36+AD36+AG36+AH36 -> 0
A37: Capital Projects | D37: ='Airport Funds'!I36 -> 0 | K37: =SUM(I37:J37) -> 0 | Q37: =SUM(O37:P37) -> 0 | U37: =S37+T37 -> 0 | X37: =V37+W37 -> 0 | Y37: ='OEO-Weatherization'!H36 -> 0 | Z37: ='OEO-Other'!Y36 -> 0 | AA37: ='Transportation Fund'!Y37 -> 0 | AB37: ='Special Purpose '!E36 -> 0 | AG37: =AE37+AF37 -> 0 | AH37: ='911'!H36 -> 0 | AI37: =B37+C37+D37+E37+F37+G37+K37+L37+M37+N37+Q37+R37+U37+X37+Y37+Z37+AA37+AB37+AD37+AG37+AH37 -> 0
A38: Substance abuse | D38: ='Airport Funds'!I37 -> 0 | K38: =SUM(I38:J38) -> 0 | Q38: =SUM(O38:P38) -> 0 | U38: =S38+T38 -> 0 | X38: =V38+W38 -> 0 | Y38: ='OEO-Weatherization'!H37 -> 0 | Z38: ='OEO-Other'!Y37 -> 0 | AA38: ='Transportation Fund'!Y38 -> 0 | AB38: ='Special Purpose '!E37 -> 0 | AG38: =AE38+AF38 -> 0 | AH38: ='911'!H37 -> 0 | AI38: =B38+C38+D38+E38+F38+G38+K38+L38+M38+N38+Q38+R38+U38+X38+Y38+Z38+AA38+AB38+AD38+AG38+AH38 -> 0
A39: Airport operations | D39: ='Airport Funds'!I38 -> 8688.47 | K39: =SUM(I39:J39) -> 0 | Q39: =SUM(O39:P39) -> 0 | U39: =S39+T39 -> 0 | X39: =V39+W39 -> 0 | Y39: ='OEO-Weatherization'!H38 -> 0 | Z39: ='OEO-Other'!Y38 -> 0 | AA39: ='Transportation Fund'!Y39 -> 0 | AB39: ='Special Purpose '!E38 -> 0 | AG39: =AE39+AF39 -> 0 | AH39: ='911'!H38 -> 0 | AI39: =B39+C39+D39+E39+F39+G39+K39+L39+M39+N39+Q39+R39+U39+X39+Y39+Z39+AA39+AB39+AD39+AG39+AH39 -> 8688.47
A40: Community action | D40: ='Airport Funds'!I39 -> 0 | G40: =19769.52-19769.52 -> 0 | K40: =SUM(I40:J40) -> 0 | Q40: =SUM(O40:P40) -> 0 | S40: 0.06 | U40: =S40+T40 -> 0.06 | V40: -6505.09 | W40: 6504 | X40: =V40+W40 -> -1.09 | Y40: ='OEO-Weatherization'!H39 -> -0.3 | Z40: ='OEO-Other'!Y39 -> 17366.86 | AA40: ='Transportation Fund'!Y40 -> -0.12 | AB40: ='Special Purpose '!E39 -> 0 | AG40: =AE40+AF40 -> 0 | AH40: ='911'!H39 -> 0 | AI40: =B40+C40+D40+E40+F40+G40+K40+L40+M40+N40+Q40+R40+U40+X40+Y40+Z40+AA40+AB40+AD40+AG40+AH40 -> 17365.41
A41: Unreserved | D41: ='Airport Funds'!I40 -> 0 | K41: =SUM(I41:J41) -> 0 | Q41: =SUM(O41:P41) -> 0 | R41: =CDBG!H25 -> -0.15 | U41: =S41+T41 -> 0 | X41: =V41+W41 -> 0 | Y41: ='OEO-Weatherization'!H40 -> 0 | Z41: ='OEO-Other'!Y40 -> 0 | AA41: ='Transportation Fund'!Y41 -> 0 | AB41: ='Special Purpose '!E40 -> 0 | AG41: =AE41+AF41 -> 0 | AH41: ='911'!H40 -> 0 | AI41: =B41+C41+D41+E41+F41+G41+K41+L41+M41+N41+Q41+R41+U41+X41+Y41+Z41+AA41+AB41+AD41+AG41+AH41 -> -0.15
A42: Total Fund Balance | B42: =SUM(B24:B41) -> 1199595.3 | C42: =SUM(C24:C41) -> 21790.52 | D42: ='Airport Funds'!I41 -> 8688.47 | E42: =SUM(E24:E41) -> 66855.8 | F42: =SUM(F24:F41) -> 292279.27 | G42: =SUM(G24:G41) -> 19769.52 | I42: =SUM(I24:I41) -> 289819.26 | J42: =SUM(J24:J41) -> 0 | K42: =SUM(I42:J42) -> 289819.26 | L42: =SUM(L24:L41) -> 445107.67 | M42: =SUM(M24:M41) -> 8576.78 | N42: =SUM(N24:N41) -> 28363.92 | O42: =SUM(O24:O41) -> 27947.52 | P42: =SUM(P24:P41) -> 0 | Q42: =SUM(O42:P42) -> 27947.52 | R42: =CDBG!H26 -> -0.15 | S42: =SUM(S24:S41) -> 0.06 | T42: =SUM(T24:T41) -> 0 | U42: =S42+T42 -> 0.06 | V42: =SUM(V24:V41) -> -6505.09 | W42: =SUM(W24:W41) -> 6504 | X42: =V42+W42 -> -1.09 | Y42: ='OEO-Weatherization'!H41 -> -0.3 | Z42: ='OEO-Other'!Y41 -> 17366.86 | AA42: ='Transportation Fund'!Y42 -> -0.12 | AB42: ='Special Purpose '!E41 -> 164824.82 | AD42: =SUM(AD24:AD41) -> 10785.43 | AE42: =SUM(AE24:AE41) -> 693112.67 | AF42: =SUM(AF24:AF41) -> 60570 | AG42: =AE42+AF42 -> 753682.67 | AH42: ='911'!H41 -> 26692.52 | AI42: =B42+C42+D42+E42+F42+G42+K42+L42+M42+N42+Q42+R42+U42+X42+Y42+Z42+AA42+AB42+AD42+AG42+AH42 -> 3382144.8
...

Sheet Stmt of Activities - Front
A1: Statement of Activities
A2: Year Ended | B2: ='ALL GOVERNMENT FUNDS'!A3 -> 43435
C4: Program Revenues | F4: Primary Government
A5: Functions/Programs | B5: Expenses | C5: Charges for Services | D5: Operating Grants and Contributions | E5: Captial Grants | F5: Governmental Activities
A6: Primary Government
A7: Government Activities:
A8: General government - administration | B8: ='Front Stmts'!R83 -> 7646218 | C8: =C99+W166 -> 775223.9 | D8: =C162+W167 -> 1468830.9 | F8: =-B8+C8+D8+E8 -> -5402163.3
A9: General government - judicial | B9: ='Front Stmts'!R84 -> 3991047.3 | C9: =D99+S166+T166+U166+V166+X166+AF166+AG166 -> 1294847.5 | D9: =D162+S167+T167+U167+V167+X167+AF167+AG167 -> 988813.63 | F9: =-B9+C9+D9+E9 -> -1707386.1
A10: Public safety | B10: ='Front Stmts'!R85 -> 7319400.1 | C10: =E99+Q166+AH166 -> 55756.25 | D10: =E162+Q167+AH167 -> 2218182.4 | F10: =-B10+C10+D10+E10 -> -5045461.5
A11: Public works | B11: ='Front Stmts'!R86 -> 2436945.8 | C11: =F99+N166+P166+R166 -> 567019.53 | D11: =F162+N167+P167+R167 -> 1137051.9 | F11: =-B11+C11+D11+E11 -> -732874.33
A12: Human services | B12: ='Front Stmts'!R87 -> 28174982 | C12: =G99+J166+M166+O166+Y166+Z166+AA166+AB166+AC166+AD166 -> 177392.84 | D12: =G162+J167+M167+O167+Y167+Z167+AA167+AB167+AC167+AD167 -> 27888245 | F12: =-B12+C12+D12+E12 -> -109344.24
A13: Conservation and development | B13: ='Front Stmts'!R88 -> 1091479.8 | C13: =H99 -> 16883 | D13: =H162 -> 0 | F13: =-B13+C13+D13+E13 -> -1074596.8
A14: Culture and recreation | B14: ='Front Stmts'!R89 -> 357706.19 | C14: =I99 -> 72800.4 | D14: =I162 -> 60456.2 | F14: =-B14+C14+D14+E14 -> -224449.59
A15: Interest | B15: ='Front Stmts'!R90 -> 22000 | F15: =-B15+C15+D15+E15 -> -22000
A17: Total governmental activities | B17: =SUM(B6:B16) -> 51039779 | C17: =SUM(C6:C16) -> 2959923.4 | D17: =SUM(D6:D16) -> 33761580 | E17: =SUM(E6:E16) -> 0 | F17: =SUM(F6:F16) -> -14318276
D20: General revenues:
D21: Property taxes | F21: ='Front Stmts'!R72-F22 -> 11460063
D22: Other taxes | F22: ='General Fund - Revenue'!G64+'General Fund - Revenue'!H64 -> 308986.84
D23: Interest and investment income | F23: ='Front Stmts'!R77 -> 56477.66
D24: Fines and Forfeits | F24: ='Front Stmts'!R76 -> 393705.73
D25: Licenses | F25: ='Front Stmts'!R73 -> 36683.5
D26: Lease Revenue | F26: ='Front Stmts'!R78 -> 0
D27: Other | F27: ='Front Stmts'!R79 -> 422130.83
D28: Gain on disposal of capital asset | F28: ='Front Stmts'!R95 -> 12908.84
D30: Total general revenues | F30: =SUM(F20:F29) -> 12690956
D32: Change in Net Position | F32: =F30+F17 -> -1627319.5
D34: Net Position:
D35: Beginning of year | F35: 42656354
D36: End of year | F36: =F35+F32 -> 41029034
A40: GENERAL FUND - Charges for Services | C40: **NOTE: If there are adjustments to these accounts on the General Fund-Revenue Sheet…they must be manually adjusted to the following links!
C41: General Admin | D41: General Judicial | E41: Public Safety | F41: Public Works | G41: Human Services | H41: Conservation | I41: Culture
A42: YEA Government | B42: 1100 | C42: ='General Fund - Revenue'!M7 -> 38147.24
A43: General Government | B43: 1105 | C43: ='General Fund - Revenue'!M8 -> 6374.82
A44: Fiscal | B44: 1135 | C44: ='General Fund - Revenue'!M9 -> 12000
A45: Tax Claim | B45: 1140 | C45: ='General Fund - Revenue'!M10 -> 552425.99
A46: Assessment | B46: 1145 | C46: ='General Fund - Revenue'!M11 -> 14460.4
A47: Telephone | B47: 1152 | C47: ='General Fund - Revenue'!M12 -> 0
A48: MIS | B48: 1155 | C48: ='General Fund - Revenue'!M13 -> 0
A49: Maintenance | B49: 1160 | C49: ='General Fund - Revenue'!M14 -> 3000
A50: Courthouse | B50: 1162 | C50: ='General Fund - Revenue'!M15 -> 0
...

Sheet General Fund
A1: General Fund & Operating Reserve
A2: Combining Balance sheet and Statement of Revenue & Expenses
A3: 43435
B5: General Fund 1000 | C5: ADJ | D5: Adjusted General Fund | E5: Operating Reserve 1100 | F5: Franklin Tax Collector 7210 | G5: Oil City Tax Collector 7211 | H5: Other Tax Collectors 7212 | I5: Franklin Per Capita 7213 | J5: Tax Claim 7600 | K5: PARK MANAGEMENT2300 | M5: Total General Fund
A7: Assets
A8: Cash & cash equivalents | B8: 5374033.7 | C8: =49553+1839-17619 -> 33773 | D8: =B8+C8 -> 5407806.7 | E8: 1755505.6 | F8: 29075.28 | G8: 29091.89 | H8: 42660.87 | I8: 4327.88 | J8: 328097.14 | M8: =D8+E8+F8+G8+H8+I8+J8+K8+L8 -> 7596565.4
A9: A/R | B9: 617730.12 | D9: =B9+C9 -> 617730.12 | E9: 0 | K9: 3510.42 | M9: =D9+E9+F9+G9+H9+I9+J9+K9+L9 -> 621240.54
A10: Taxes Receivable | B10: 1638372.4 | D10: =B10+C10 -> 1638372.4 | F10: -29075.28 | G10: -29091.89 | H10: -42660.87 | I10: -4327.88 | M10: =D10+E10+F10+G10+H10+I10+J10+K10+L10 -> 1533216.4
A11: Due from Component Unit | C11: 17619 | D11: =B11+C11 -> 17619 | M11: =D11+E11+F11+G11+H11+I11+J11+K11+L11 -> 17619
A12: Due from Other Funds | B12: 619924.85 | C12: -7042 | D12: =B12+C12 -> 612882.85 | M12: =D12+E12+F12+G12+H12+I12+J12+K13+L12 -> 612882.85
A13: Due from Other Governments | B13: 67643.23 | D13: =B13+C13 -> 67643.23 | M13: =D13+E13+F13+G13+H13+I13+J13+K14+L13 -> 67643.23
A14: Prepaids | D14: =B14+C14 -> 0 | M14: =D14+E14+F14+G14+H14+I14+J14+K14+L14 -> 0
A15: Total Assets | B15: =SUM(B8:B14) -> 8317704.3 | C15: =SUM(C8:C14) -> 44350 | D15: =B15+C15 -> 8362054.3 | E15: =SUM(E8:E14) -> 1755505.6 | F15: =SUM(F8:F14) -> 0 | G15: =SUM(G8:G14) -> 0 | H15: =SUM(H8:H14) -> 0 | I15: =SUM(I8:I14) -> 0 | J15: =SUM(J8:J14) -> 328097.14 | K15: =SUM(K8:K14) -> 3510.42 | M15: =D15+E15+F15+G15+H15+I15+J15+K15+L15 -> 10449167 | N15: =SUM(M8:M14) -> 10449167
A17: Liabilities
A18: A/P | B18: 412178.34 | D18: =B18+C18 -> 412178.34 | J18: 328097.14 | M18: =D18+E18+F18+G18+H18+I18+J18+K18+L18 -> 740275.48
A19: Accrued Payroll | B19: 338235.15 | D19: =B19+C19 -> 338235.15 | M19: =D19+E19+F19+G19+H19+I19+J19+K19+L19 -> 338235.15
A20: Due to Other Funds | B20: 106403.43 | D20: =B20+C20 -> 106403.43 | M20: =D20+E20+F20+G20+H20+I20+J20+K20+L20 -> 106403.43
A21: Due to Other Governments | B21: 62624.48 | D21: =B21+C21 -> 62624.48 | M21: =D21+E21+F21+G21+H21+I21+J21+K21+L21 -> 62624.48
A22: Unearned Revenue | B22: 1672303.1 | C22: =-7042 -> -7042 | D22: =B22+C22 -> 1665261.1 | M22: =D22+E22+F22+G22+H22+I22+J22+K22+L22 -> 1665261.1
A23: Total Liabilities | B23: =SUM(B18:B22) -> 2591744.5 | C23: =SUM(C18:C22) -> -7042 | D23: =B23+C23 -> 2584702.5 | E23: =SUM(E18:E22) -> 0 | F23: =SUM(F18:F22) -> 0 | G23: =SUM(G18:G22) -> 0 | H23: =SUM(H18:H22) -> 0 | I23: =SUM(I18:I22) -> 0 | J23: =SUM(J18:J22) -> 328097.14 | K23: =SUM(K18:K22) -> 0 | M23: =D23+E23+F23+G23+H23+I23+J23+K23+L23 -> 2912799.7 | N23: =SUM(M18:M22) -> 2912799.7
A25: Deferred Inflows of Resources:
A26: Unavailable revenue - taxes/fees | D26: =B26+C26 -> 0 | M26: =D26+E26+F26+G26+H26+I26+J26+K26+L26 -> 0
A27: Unavailable revenue - lease | D27: =B27+C27 -> 0 | M27: =D27+E27+F27+G27+H27+I27+J27+K27+L27 -> 0
A28: Total Deferred Inflows of Resources | B28: =SUM(B26:B27) -> 0 | C28: =SUM(C26:C27) -> 0 | D28: =SUM(D26:D27) -> 0 | E28: =SUM(E26:E27) -> 0 | F28: =SUM(F26:F27) -> 0 | G28: =SUM(G26:G27) -> 0 | H28: =SUM(H26:H27) -> 0 | I28: =SUM(I26:I27) -> 0 | ... K28: =SUM(K26:K27) -> 0 | M28: =D28+E28+F28+G28+H28+I28+J28+K28+L28 -> 0
A30: Fund Balance
A31: RESTRICTED
A32: Reserved: Program | D32: =B32+C32 -> 0 | M32: =D32+E32+F32+G32+H32+I32+J32+K32+L32 -> 0
A33: Operating Reserve | D33: =B33+C33 -> 0 | E33: 1755505.6 | M33: =D33+E33+F33+G33+H33+I33+J33+K33+L33 -> 1755505.6
A34: Debt Service | D34: =B34+C34 -> 0 | M34: =D34+E34+F34+G34+H34+I34+J34+K34+L34 -> 0
A35: Human Services | D35: =B35+C35 -> 0 | M35: =D35+E35+F35+G35+H35+I35+J35+K35+L35 -> 0
A36: Roads and bridges | D36: =B36+C36 -> 0 | M36: =D36+E36+F36+G36+H36+I36+J36+K36+L36 -> 0
A37: Affordable housing | D37: =B37+C37 -> 0 | M37: =D37+E37+F37+G37+H37+I37+J37+K37+L37 -> 0
A38: Act 13 | D38: =B38+C38 -> 0 | M38: =D38+E38+F38+G38+H38+I38+J38+K38+L38 -> 0
A39: Constable server fees | D39: =B39+C39 -> 0 | M39: =D39+E39+F39+G39+H39+I39+J39+K39+L39 -> 0
A40: Offender identification | D40: =B40+C40 -> 0 | M40: =D40+E40+F40+G40+H40+I40+J40+K40+L40 -> 0
A41: Records improvement/automation | D41: =B41+C41 -> 0 | M41: =D41+E41+F41+G41+H41+I41+J41+K41+L41 -> 0
A42: Sugar Valley Lodge | D42: =B42+C42 -> 0 | M42: =D42+E42+F42+G42+H42+I42+J42+K42+L42 -> 0
A43: Domestic Relations | D43: =B43+C43 -> 0 | M43: =D43+E43+F43+G43+H43+I43+J43+K43+L43 -> 0
A44: Other Purposes | D44: =B44+C44 -> 0 | M44: =D44+E44+F44+G44+H44+I44+J44+K44+L44 -> 0
A45: ASSIGNED | D45: =B45+C45 -> 0 | M45: =D45+E45+F45+G45+H45+I45+J45+K45+L45 -> 0
...

Sheet General Fund - Revenue
A1: Revenue & Expenses
A2: General Fund
A3: 43435
F4: TAXES
C5: Income | J5: PROCEEDS FROM | T5: Expenses
A6: Org | B6: Org# | C6: Revenue | D6: Check | E6: Real Estate | F6: Occupational | G6: Per Capita | H6: Hotel Room | I6: Public Utility Realty Tax | J6: Sales | K6: Other | L6: Intergvt | M6: Charges for Services | N6: Fines & Forfeits | O6: Interest | P6: Lease Revenue/Rent | Q6: Licenses | R6: Total Revenue | T6: General Admin | U6: General Judicial | V6: Public Safety | W6: Public Works | X6: Human services | Y6: Conservation & Development | Z6: Culture & Recreation | AA6: Capital Projects | AB6: Debt Service | AC6: Total Expenses | AE6: Excess/ Deficiency | AF6: Interfund In | AG6: Interfund Out | AH6: TOTAL
A7: YEA Government | B7: 1100 | D7: =SUM(E7:Q7) -> 32527 | E7: 2505.95 | G7: 13447.57 | L7: -21450.76 | M7: =37700.24+447 -> 38147.24 | Q7: -123 | R7: =SUM(E7:Q7) -> 32527 | T7: 902.92 | AC7: =SUM(T7:AB7) -> 902.92 | AE7: =R7-AC7 -> 31624.08 | AH7: =AE7+AF7-AG7 -> 31624.08
A8: General Government | B8: 1105 | D8: =SUM(E8:Q8) -> 11639531 | E8: 11463233 | G8: 140679.84 | I8: 10649.29 | J8: 3038.84 | M8: 6374.82 | O8: 15555.56 | R8: =SUM(E8:Q8) -> 11639531 | T8: -39078.74 | AC8: =SUM(T8:AB8) -> -39078.74 | AE8: =R8-AC8 -> 11678610 | AF8: =3009723.04 -> 3009723 | AH8: =AE8+AF8-AG8 -> 14688333
A9: Fiscal | B9: 1135 | D9: =SUM(E9:Q9) -> 12000 | M9: 12000 | R9: =SUM(E9:Q9) -> 12000 | T9: 474583.14 | AC9: =SUM(T9:AB9) -> 474583.14 | AE9: =R9-AC9 -> -462583.14 | AF9: 267709.18 | AH9: =AE9+AF9-AG9 -> -194873.96
A10: Tax Claim | B10: 1140 | D10: =SUM(E10:Q10) -> 556898.26 | K10: 3040.25 | M10: 552425.99 | O10: 1432.02 | R10: =SUM(E10:Q10) -> 556898.26 | T10: 225857.64 | AC10: =SUM(T10:AB10) -> 225857.64 | AE10: =R10-AC10 -> 331040.62 | AH10: =AE10+AF10-AG10 -> 331040.62
A11: Assessment | B11: 1145 | D11: =SUM(E11:Q11) -> 14460.4 | M11: 14460.4 | R11: =SUM(E11:Q11) -> 14460.4 | T11: 357991.74 | AC11: =SUM(T11:AB11) -> 357991.74 | AE11: =R11-AC11 -> -343531.34 | AH11: =AE11+AF11-AG11 -> -343531.34
A12: Telephone | B12: 1152 | D12: =SUM(E12:Q12) -> 0 | R12: =SUM(E12:Q12) -> 0 | T12: 29944.96 | AC12: =SUM(T12:AB12) -> 29944.96 | AE12: =R12-AC12 -> -29944.96 | AH12: =AE12+AF12-AG12 -> -29944.96
A13: MIS | B13: 1155 | D13: =SUM(E13:Q13) -> 0 | R13: =SUM(E13:Q13) -> 0 | T13: 471860.76 | AC13: =SUM(T13:AB13) -> 471860.76 | AE13: =R13-AC13 -> -471860.76 | AF13: 213215.49 | AH13: =AE13+AF13-AG13 -> -258645.27
A14: Maintenance | B14: 1160 | D14: =SUM(E14:Q14) -> 3000 | M14: 3000 | R14: =SUM(E14:Q14) -> 3000 | T14: 442691.96 | AC14: =SUM(T14:AB14) -> 442691.96 | AE14: =R14-AC14 -> -439691.96 | AF14: 146489.59 | AH14: =AE14+AF14-AG14 -> -293202.37
A15: Courthouse | B15: 1162 | D15: =SUM(E15:Q15) -> 21450.76 | L15: 21450.76 | R15: =SUM(E15:Q15) -> 21450.76 | T15: 105012 | AC15: =SUM(T15:AB15) -> 105012 | AE15: =R15-AC15 -> -83561.24 | AH15: =AE15+AF15-AG15 -> -83561.24
A16: Annex | B16: 1164 | D16: =SUM(E16:Q16) -> 0 | R16: =SUM(E16:Q16) -> 0 | T16: 82806.23 | AC16: =SUM(T16:AB16) -> 82806.23 | AE16: =R16-AC16 -> -82806.23 | AH16: =AE16+AF16-AG16 -> -82806.23
A17: Human Services Complex | B17: 1166 | D17: =SUM(E17:Q17) -> 0 | R17: =SUM(E17:Q17) -> 0 | T17: 1151.5 | AC17: =SUM(T17:AB17) -> 1151.5 | AE17: =R17-AC17 -> -1151.5 | AH17: =AE17+AF17-AG17 -> -1151.5
A18: Exchange Building | B18: 1167 | D18: =SUM(E18:Q18) -> 48805.7 | K18: 48805.7 | R18: =SUM(E18:Q18) -> 48805.7 | T18: 140965.23 | AC18: =SUM(T18:AB18) -> 140965.23 | AE18: =R18-AC18 -> -92159.53 | AH18: =AE18+AF18-AG18 -> -92159.53
A19: Custodial | B19: 1168 | D19: =SUM(E19:Q19) -> 6810 | M19: 6810 | R19: =SUM(E19:Q19) -> 6810 | T19: 102799.33 | AC19: =SUM(T19:AB19) -> 102799.33 | AE19: =R19-AC19 -> -95989.33 | AH19: =AE19+AF19-AG19 -> -95989.33
A20: Sugar Valley Buildings | B20: 1169 | D20: =SUM(E20:Q20) -> 67652.63 | L20: 67652.63 | R20: =SUM(E20:Q20) -> 67652.63 | T20: 79906.43 | AC20: =SUM(T20:AB20) -> 79906.43 | AE20: =R20-AC20 -> -12253.8 | AH20: =AE20+AF20-AG20 -> -12253.8
A21: Fleet Mgmt | B21: 1171 | D21: =SUM(E21:Q21) -> 0 | R21: =SUM(E21:Q21) -> 0 | T21: 13330.87 | AC21: =SUM(T21:AB21) -> 13330.87 | AE21: =R21-AC21 -> -13330.87 | AH21: =AE21+AF21-AG21 -> -13330.87
A22: YEA - Judicial | B22: 1200 | D22: =SUM(E22:Q22) -> 42151.25 | K22: -1156 | L22: 3392.73 | M22: =29771.61+2243.21-762.31 -> 31252.51 | N22: =10108.9-2243.21+762.31 -> 8628 | O22: 34.01 | R22: =SUM(E22:Q22) -> 42151.25 | U22: 19822.6 | AC22: =SUM(T22:AB22) -> 19822.6 | AE22: =R22-AC22 -> 22328.65 | AF22: 62217.8 | AH22: =AE22+AF22-AG22 -> 84546.45
A23: YEA - Public Safety | B23: 1300 | D23: =SUM(E23:Q23) -> 58684.83 | L23: 58684.83 | R23: =SUM(E23:Q23) -> 58684.83 | V23: 16280.36 | AC23: =SUM(T23:AB23) -> 16280.36 | AE23: =R23-AC23 -> 42404.47 | AH23: =AE23+AF23-AG23 -> 42404.47
A24: YEA - Public Works | B24: 1400 | D24: =SUM(E24:Q24) -> -3256 | K24: 830 | M24: -4086 | R24: =SUM(E24:Q24) -> -3256 | W24: 519.78 | AC24: =SUM(T24:AB24) -> 519.78 | AE24: =R24-AC24 -> -3775.78 | AH24: =AE24+AF24-AG24 -> -3775.78
A25: YEA - Human Services | B25: 1500 | D25: =SUM(E25:Q25) -> 0 | R25: =SUM(E25:Q25) -> 0 | X25: -542.96 | AC25: =SUM(T25:AB25) -> -542.96 | AE25: =R25-AC25 -> 542.96 | AH25: =AE25+AF25-AG25 -> 542.96
A26: YEA - Culture & Recreation | B26: 1600 | D26: =SUM(E26:Q26) -> 17319.2 | K26: =1000-954 -> 46 | L26: 17273.2 | R26: =SUM(E26:Q26) -> 17319.2 | AC26: =SUM(T26:AB26) -> 0 | AE26: =R26-AC26 -> 17319.2 | AH26: =AE26+AF26-AG26 -> 17319.2
A27: YEA - Conservvation | B27: 1700 | D27: =SUM(E27:Q27) -> 0 | R27: =SUM(E27:Q27) -> 0 | Y27: 695.59 | AC27: =SUM(T27:AB27) -> 695.59 | AE27: =R27-AC27 -> -695.59 | AH27: =AE27+AF27-AG27 -> -695.59
A28: YEA - Other Miscellaneous | D28: =SUM(E28:Q28) -> 0 | R28: =SUM(E28:Q28) -> 0 | AC28: =SUM(T28:AB28) -> 0 | AE28: =R28-AC28 -> 0 | AH28: =AE28+AF28-AG28 -> 0
A29: Debt Service | B29: 1905 | D29: =SUM(E29:Q29) -> 0 | R29: =SUM(E29:Q29) -> 0 | AC29: =SUM(T29:AB29) -> 0 | AE29: =R29-AC29 -> 0 | AG29: 699150 | AH29: =AE29+AF29-AG29 -> -699150
A30: Courts | B30: 2205 | D30: =SUM(E30:Q30) -> 132736.71 | L30: 91099 | M30: =6672+34965.71 -> 41637.71 | R30: =SUM(E30:Q30) -> 132736.71 | U30: 635608.04 | AC30: =SUM(T30:AB30) -> 635608.04 | AE30: =R30-AC30 -> -502871.33 | AG30: 120 | AH30: =AE30+AF30-AG30 -> -502991.33
A31: Domestic Relations | B31: 2210 | D31: =SUM(E31:Q31) -> 24832.43 | K31: 211.25 | M31: 24621.18 | R31: =SUM(E31:Q31) -> 24832.43 | U31: 494426.45 | AC31: =SUM(T31:AB31) -> 494426.45 | AE31: =R31-AC31 -> -469594.02 | AF31: 336387.45 | AG31: 280 | AH31: =AE31+AF31-AG31 -> -133486.57
A32: Law Library | B32: 2215 | D32: =SUM(E32:Q32) -> 0 | R32: =SUM(E32:Q32) -> 0 | U32: 45359.17 | AC32: =SUM(T32:AB32) -> 45359.17 | AE32: =R32-AC32 -> -45359.17 | AH32: =AE32+AF32-AG32 -> -45359.17
A33: FISH - DJ | B33: 2225 | D33: =SUM(E33:Q33) -> 48832 | L33: 739.02 | M33: 48092.98 | R33: =SUM(E33:Q33) -> 48832 | U33: 129625.13 | AC33: =SUM(T33:AB33) -> 129625.13 | AE33: =R33-AC33 -> -80793.13 | AH33: =AE33+AF33-AG33 -> -80793.13
A34: Dinberg - DJ | B34: 2230 | D34: =SUM(E34:Q34) -> 0 | R34: =SUM(E34:Q34) -> 0 | AC34: =SUM(T34:AB34) -> 0 | AE34: =R34-AC34 -> 0 | AH34: =AE34+AF34-AG34 -> 0
A35: Lowrey - DJ | B35: 2235 | D35: =SUM(E35:Q35) -> 49208.56 | M35: 49208.56 | R35: =SUM(E35:Q35) -> 49208.56 | U35: 132934.14 | AC35: =SUM(T35:AB35) -> 132934.14 | AE35: =R35-AC35 -> -83725.58 | AH35: =AE35+AF35-AG35 -> -83725.58
A36: Kirtland - DJ | B36: 2240 | D36: =SUM(E36:Q36) -> 76872.18 | M36: 76872.18 | R36: =SUM(E36:Q36) -> 76872.18 | U36: 159419.35 | AC36: =SUM(T36:AB36) -> 159419.35 | AE36: =R36-AC36 -> -82547.17 | AH36: =AE36+AF36-AG36 -> -82547.17
A37: Court Supervision | B37: 2310 | D37: =SUM(E37:Q37) -> 290247.65 | K37: 233.44 | L37: 35801.89 | M37: =2998.05+192109.27 -> 195107.32 | N37: =251214.27-192109.27 -> 59105 | R37: =SUM(E37:Q37) -> 290247.65 | V37: 667876.58 | AC37: =SUM(T37:AB37) -> 667876.58 | AE37: =R37-AC37 -> -377628.93 | AH37: =AE37+AF37-AG37 -> -377628.93
A38: Juevenile Court | B38: 2311 | D38: =SUM(E38:Q38) -> 147085.11 | K38: 350.52 | L38: 142463.07 | N38: 4271.52 | R38: =SUM(E38:Q38) -> 147085.11 | V38: 489601.68 | AC38: =SUM(T38:AB38) -> 489601.68 | AE38: =R38-AC38 -> -342516.57 | AF38: 1176.5 | AH38: =AE38+AF38-AG38 -> -341340.07
A39: Prison | B39: 3305 | D39: =SUM(E39:Q39) -> 183096.06 | K39: =48153.83+99353.98 -> 147507.81 | M39: 35256.25 | N39: 332 | R39: =SUM(E39:Q39) -> 183096.06 | V39: 3197916.9 | AC39: =SUM(T39:AB39) -> 3197916.9 | AE39: =R39-AC39 -> -3014820.8 | AF39: =177286.86-99354 -> 77932.86 | AH39: =AE39+AF39-AG39 -> -2936888
A40: EMA - 911 Building | B40: 4315 | D40: =SUM(E40:Q40) -> 0 | R40: =SUM(E40:Q40) -> 0 | V40: 31715.06 | AC40: =SUM(T40:AB40) -> 31715.06 | AE40: =R40-AC40 -> -31715.06 | AH40: =AE40+AF40-AG40 -> -31715.06
...

Sheet Capital Projects Fund
A1: Capital Projects Fund
A2: Combining Balance sheet and Statement of Revenue & Expenses
A3: 43435 | C3: check categories
B5: Capital Projects 3000 | C5: Debt Service 4000 | D5: Debt Service 4100 | E5: 2010 Debt Service 4300 | F5: Adjustments | G5: Adjusted 2010 Debt Service 4300 | H5: TOTAL Capital Projects
A7: Assets
A8: Cash & cash equivalents | B8: =21878.14-1839-49553 -> -29513.86 | C8: 280594.53 | G8: =E8+F8 -> 0 | H8: =SUM(B8+C8+D8+G8) -> 251080.67
A9: A/R | B9: 0 | G9: =E9+F9 -> 0 | H9: =SUM(B9+C9+D9+G9) -> 0
A10: Due from Other Funds | B10: 69 | E10: -69.22 | G10: =E10+F10 -> -69.22 | H10: =SUM(B10+C10+D10+G10) -> -0.22
A11: Due from Other Governments | G11: =E11+F11 -> 0 | H11: =SUM(B11+C11+D11+G11) -> 0
A12: Prepaids | G12: =E12+F12 -> 0 | H12: =SUM(B12+C12+D12+G12) -> 0
A13: Lease Receivable/Other | C13: =415000-415000 -> 0 | G13: =E13+F13 -> 0 | H13: =SUM(B13+C13+D13+G13) -> 0
A14: Total Assets | B14: =SUM(B8:B13) -> -29444.86 | C14: =SUM(C8:C13) -> 280594.53 | D14: =SUM(D8:D13) -> 0 | E14: =SUM(E8:E13) -> -69.22 | F14: =SUM(F8:F13) -> 0 | G14: =E14+F14 -> -69.22 | H14: =SUM(B14+C14+D14+G14) -> 251080.45
A16: Liabilities
A17: A/P | G17: =E17+F17 -> 0 | H17: =SUM(B17+C17+D17+G17) -> 0
A18: Accrued Payroll | G18: =E18+F18 -> 0 | H18: =SUM(B18+C18+D18+G18) -> 0
A19: Due to Other Governments | C19: =415000-415000 -> 0 | G19: =E19+F19 -> 0 | H19: =SUM(B19+C19+D19+G19) -> 0
A20: Deferred Revenue | G20: =E20+F20 -> 0 | H20: =SUM(B20+C20+D20+G20) -> 0
A21: Total Liabilities | B21: =SUM(B17:B20) -> 0 | C21: =SUM(C17:C20) -> 0 | D21: =SUM(D17:D20) -> 0 | E21: =SUM(E17:E20) -> 0 | F21: =SUM(F17:F20) -> 0 | G21: =E21+F21 -> 0 | H21: =SUM(B21+C21+D21+G21) -> 0
A23: Deferred Inflows of Resources:
A24: Unavailable revenue - taxes/fees | G24: =E24+F24 -> 0 | H24: =SUM(B24+C24+D24+G24) -> 0
A25: Unavailable revenue - lease | G25: =E25+F25 -> 0 | H25: =SUM(B25+C25+D25+G25) -> 0
A26: Total Deferred Inflows | B26: =SUM(B24:B25) -> 0 | C26: =SUM(C24:C25) -> 0 | D26: =SUM(D24:D25) -> 0 | E26: =SUM(E24:E25) -> 0 | F26: =SUM(F24:F25) -> 0 | G26: =E26+F26 -> 0 | H26: =SUM(B26+C26+D26+G26) -> 0
A28: Fund Balance
A29: Reserved: Program | G29: =E29+F29 -> 0 | H29: =SUM(B29+C29+D29+G29) -> 0
A30: Reserved: Prepaids | G30: =E30+F30 -> 0 | H30: =SUM(B30+C30+D30+G30) -> 0
A31: Unreserved | B31: =21878.14-1839-49553+69 -> -29444.86 | C31: 280594.53 | E31: -69.22 | G31: =E31+F31 -> -69.22 | H31: =SUM(B31+C31+D31+G31) -> 251080.45
A32: Total Fund Balance | B32: =SUM(B29:B31) -> -29444.86 | C32: =SUM(C29:C31) -> 280594.53 | D32: =SUM(D29:D31) -> 0 | E32: =SUM(E29:E31) -> -69.22 | F32: =SUM(F29:F31) -> 0 | G32: =E32+F32 -> -69.22 | H32: =SUM(B32+C32+D32+G32) -> 251080.45
A34: Total Liabilities & Fund Balance | B34: =B21+B26+B32 -> -29444.86 | C34: =C21+C26+C32 -> 280594.53 | D34: =D21+D26+D32 -> 0 | E34: =E21+E26+E32 -> -69.22 | F34: =F21+F26+F32 -> 0 | G34: =G21+G26+G32 -> -69.22 | H34: =H21+H26+H32 -> 251080.45
B35: =IF(B14=B34,"YES","NO") -> YES | C35: =IF(C14=C34,"YES","NO") -> YES | D35: =IF(D14=D34,"YES","NO") -> YES | E35: =IF(E14=E34,"YES","NO") -> YES | F35: =IF(F14=F34,"YES","NO") -> YES | G35: =IF(G14=G34,"YES","NO") -> YES | H35: =IF(H14=H34,"YES","NO") -> YES
A36: Revenue
A37: Intergovermental | G37: =E37+F37 -> 0 | H37: =SUM(B37:F37) -> 0
A38: Charges for Services | G38: =E38+F38 -> 0 | H38: =SUM(B38:F38) -> 0
A39: Lease Revenue | G39: =E39+F39 -> 0 | H39: =SUM(B39:F39) -> 0
A40: Interest | C40: 615.05 | E40: 16.78 | G40: =E40+F40 -> 16.78 | H40: =SUM(B40:F40) -> 631.83
A41: Lease Revenue | G41: =E41+F41 -> 0 | H41: =SUM(B41:F41) -> 0
A42: Other | B42: =59992-59992 -> 0 | G42: =E42+F42 -> 0 | H42: =SUM(B42:F42) -> 0
A43: Total Revenues | B43: =SUM(B37:B42) -> 0 | C43: =SUM(C37:C42) -> 615.05 | D43: =SUM(D37:D42) -> 0 | E43: =SUM(E37:E42) -> 16.78 | F43: =SUM(F37:F42) -> 0 | G43: =SUM(G37:G42) -> 16.78 | H43: =SUM(B43:F43) -> 631.83
A45: Expenditures
A46: General gvt - administration | B46: 9100 | G46: =E46+F46 -> 0 | H46: =SUM(B46:F46) -> 9100
A47: General gvt - judicial | G47: =E47+F47 -> 0 | H47: =SUM(B47:F47) -> 0
...

Sheet Human Services
A1: Human Services Funds
A2: Combining Balance sheet and Statement of Revenue & Expenses
A3: 43435 | G3: Developmental | H3: Developmental
G4: Services | H4: Services
B5: AAA Funds | C5: RSVP Funds | D5: CYS Funds | E5: Substance Abuse Funds | F5: Mental Health Funds | G5: Mental Retardation Funds | H5: Human Services 1150 | I5: Eliminations | J5: Total Human Services
A7: Assets
A8: Cash & cash equivalents | B8: ='AAA Funds'!F8 -> 589362.86 | C8: ='RSVP Funds'!F8 -> 18934.33 | D8: ='CYS Funds'!R8 -> -2962769.1 | E8: ='Substance Abuse'!I8 -> 346249.52 | F8: ='Mental Health Funds'!K8 -> -275376.54 | G8: ='Mental Retardation Funds'!N8 -> 1452244.6 | H8: ='Human Services 1150'!D8 -> -6321.03 | J8: =SUM(B8:I8) -> -837675.43
